BEGIN:VCALENDAR
VERSION:2.0
PRODID:Events Booking
BEGIN:VEVENT
UID:69ecb4b7c587d
SUMMARY:Dallas Chapter April Meeting
DESCRIPTION:
LOCATION:6505 W Park Blvd\, Unit 135 Plano\, TX 75093
DTSTART:20260430T233000Z
DTSTAMP:20260425T053152Z
ORGANIZER;CN=Texas Rovers:MAILTO:info@texasrovers.org
GEO:33.028615;-96.791839
X-APPLE-STRUCTURED-LOCATION;VALUE=URI;X-ADDRESS=6505 W Park Blvd\, Unit 135
  Plano\, TX 75093;X-APPLE-RADIUS=72;X-TITLE=E.B. Latin Bistro:33.028615;-9
 6.791839
END:VEVENT
END:VCALENDAR